BEGIN:VCALENDAR
VERSION:2.0
PRODID:-//ChamberMaster//Event Calendar 2.0//EN
METHOD:PUBLISH
X-PUBLISHED-TTL:P3D
REFRESH-INTERVAL:P3D
CALSCALE:GREGORIAN
BEGIN:VEVENT
DTSTART:20180403T210000Z
DTEND:20180403T220000Z
X-MICROSOFT-CDO-ALLDAYEVENT:FALSE
SUMMARY:April Diplomat Meeting
DESCRIPTION:Attention all Irmo Chamber Diplomats:  mark your calendars for our April meeting and don't forget to bring your nomination for Business of the Month!
X-ALT-DESC;FMTTYPE=text/html:Attention all Irmo Chamber Diplomats: &nbsp\;mark your calendars for our April meeting and don&#39\;t forget to bring your nomination for Business of the Month!
LOCATION:BJ's on Harbison 148 Harbison Blvd. Columia\, SC 29212
UID:e.1333.2983
SEQUENCE:3
DTSTAMP:20260423T211023Z
URL:https://business.greaterirmochamber.com/events/details/april-diplomat-meeting-2983
END:VEVENT

END:VCALENDAR
