BEGIN:VCALENDAR
VERSION:2.0
PRODID:-//ChamberMaster//Event Calendar 2.0//EN
METHOD:PUBLISH
X-PUBLISHED-TTL:P3D
REFRESH-INTERVAL:P3D
CALSCALE:GREGORIAN
BEGIN:VEVENT
DTSTART:20161206T183000Z
DTEND:20161206T210000Z
X-MICROSOFT-CDO-ALLDAYEVENT:FALSE
SUMMARY:Are You Ready to Be in the Game!
DESCRIPTION:You are invited to the Palmetto Health Supplier Diversity Conference with Speaker Dianne Sumpter.\n\nThis is a FREE event.\n\nTo register: palmettohealthdiversityprogram@palmettohealth.org
X-ALT-DESC;FMTTYPE=text/html:You are invited to the Palmetto Health Supplier Diversity Conference with Speaker Dianne Sumpter.<br />\nThis is a FREE event.<br />\nTo register: palmettohealthdiversityprogram@palmettohealth.org
LOCATION:Palmetto Health Administrative Building Greystone Auditorium 293 Greystone Boulevard Columbia\, SC
UID:e.1333.2494
SEQUENCE:3
DTSTAMP:20260424T213326Z
URL:https://business.greaterirmochamber.com/events/details/are-you-ready-to-be-in-the-game-2494
END:VEVENT

END:VCALENDAR
