BEGIN:VCALENDAR
VERSION:2.0
PRODID:-//ChamberMaster//Event Calendar 2.0//EN
METHOD:PUBLISH
X-PUBLISHED-TTL:P3D
REFRESH-INTERVAL:P3D
CALSCALE:GREGORIAN
BEGIN:VEVENT
DTSTART:20170809T153000Z
DTEND:20170809T170000Z
X-MICROSOFT-CDO-ALLDAYEVENT:FALSE
SUMMARY:August 2017 Chamber Luncheon
DESCRIPTION:Please join us for our August Chamber Luncheon on Wednesday\, August 9th\, co-sponsored by The Art of Dentistry and Century Glass.  Our sponsors will have complimentary solar glasses for everyone who attends so you can safely view the upcoming solar eclipse!\n\n\n\nWe will kick off the start of our new fiscal year with sales trainer\, Bill McCrary\, as he presents the topic of How Successful Entrepreneurs Grow Sales!\n\n\n\nIf you have never heard Bill McCrary speak\, now is your chance! A number of Bill's clients have been recognized as one of Inc. Magazine's fastest growing companies in America\, referenced in Jim Collin's book "Good to Great"\, or Elliott Davis' list of South Carolina's Fastest-Growing Companies. After 20 years in business\, Bill will share growth strategies employed by some of those companies.\n\n\n\nBill McCrary\, a Columbia native\, founded Strategic Partner in 1997 after a 20-year corporate career with Fortune 500 companies Georgia-Pacific and Wyeth Labs. Bill is an internationally known speaker haven spoken at destinations as distant as Dubai\, UAE. He is also a Vistage International speaker.\n\n \n\nBill's company Strategic Partner is an authorized licensee of Sandler Training. Sandler was recently named the #1 training company in America by Entrepreneur Magazine.  Sandler Training is a world leader in sales and sales management training with a network of 275 Sandler training centers in 31 countries around the world. In 2009\, McCrary was awarded the David H. Sandler Award by Sandler Training. The award is the organizations highest honor and is given to one person worldwide annually.
X-ALT-DESC;FMTTYPE=text/html:<span style="font-family:tahoma\;"><span style="font-size:14px\;">Please join us for our <strong>August Chamber Luncheon</strong> on <strong>Wednesday\, August 9th\,</strong> co-sponsored by <strong>The Art of Dentistry</strong> and <strong>Century Glass.</strong> &nbsp\;Our sponsors will have <strong>complimentary solar glasses</strong> for everyone who attends so you can safely view the upcoming solar eclipse!<br />\n<br />\nWe will kick off the start of our new fiscal year with sales trainer\, Bill McCrary\, as he presents the topic of <strong>How Successful Entrepreneurs Grow Sales!</strong><br />\n<br />\nIf you have never heard Bill&nbsp\;McCrary speak\, now is your chance!&nbsp\;A number of Bill&rsquo\;s clients have been recognized as one of&nbsp\;<em>Inc. Magazine&rsquo\;s</em>&nbsp\;fastest growing companies in America\, referenced in Jim Collin&rsquo\;s book &ldquo\;Good to Great&rdquo\;\, or Elliott Davis&rsquo\; list of South Carolina&#39\;s Fastest-Growing Companies.&nbsp\;After 20 years in business\, Bill will share growth strategies employed by some of those companies.<br />\n<br />\nBill McCrary\, a Columbia native\,&nbsp\;founded&nbsp\;Strategic Partner in 1997 after a 20-year corporate career with Fortune 500 companies Georgia-Pacific and Wyeth Labs.&nbsp\;Bill is an internationally known speaker haven spoken at destinations as distant as Dubai\, UAE. He is also a Vistage International speaker.<br />\n&nbsp\;<br />\nBill&rsquo\;s&nbsp\;company Strategic Partner is an authorized licensee of Sandler Training. Sandler was recently named the #1 training company in America by&nbsp\;<em>Entrepreneur Magazine</em>.&nbsp\; Sandler Training is a world leader in sales and sales management training with a network of 275 Sandler training centers in 31 countries around the world. In 2009\, McCrary was awarded the David H. Sandler Award by Sandler Training. The award is the organizations highest honor and is given to one person worldwide annually.</span></span>
LOCATION:St. Andrew's Presbyterian Church 6952 St. Andrew's Rd. Columbia\, SC 29212
UID:e.1333.2883
SEQUENCE:3
DTSTAMP:20260424T095021Z
URL:https://business.greaterirmochamber.com/events/details/august-2017-chamber-luncheon-2883
END:VEVENT

END:VCALENDAR
