BEGIN:VCALENDAR
VERSION:2.0
PRODID:-//ChamberMaster//Event Calendar 2.0//EN
METHOD:PUBLISH
X-PUBLISHED-TTL:P3D
REFRESH-INTERVAL:P3D
CALSCALE:GREGORIAN
BEGIN:VEVENT
DTSTART:20180808T153000Z
DTEND:20180808T170000Z
X-MICROSOFT-CDO-ALLDAYEVENT:FALSE
SUMMARY:August 2018 Chamber Luncheon
DESCRIPTION:Please join us for our August Chamber Luncheon on Wednesday\, August 8\, 2018 from 11:30am-1pm at St. Andrews Presbyterian Church.  This month\, we will welcome Kassy Alia\, CEO and Founder of Serve and Connect\, an organization formed in the memory of her late husband\, Officer Greg Alia\, who was killed in the line of duty.  Special thanks to the team at Woodforest National Bank for sponsoring this event.   We're excited to have Bonefish Grill cater our lunch!
X-ALT-DESC;FMTTYPE=text/html:<span style="font-family: arial\;">Please join us for our <strong>August</strong></span><strong style="font-family: arial\;">&nbsp\;Chamber Luncheon</strong><span style="font-family: arial\;">&nbsp\;on&nbsp\;</span><strong style="font-family: arial\;">Wednesday\, August 8\, 2018</strong><span style="font-family: arial\;">&nbsp\;from&nbsp\;</span><strong style="font-family: arial\;">11:30am-1pm</strong><span style="font-family: arial\;">&nbsp\;at&nbsp\;</span><strong style="font-family: arial\;">St. Andrews Presbyterian Church</strong><span style="font-family: arial\;">. &nbsp\;This month\, we will welcome</span><font face="arial">&nbsp\;<strong>Kassy Alia\, CEO and Founder of Serve and Connect</strong>\, an organization formed in the memory of her late husband\, Officer Greg Alia\, who was killed in the line of duty.&nbsp\; Special thanks to the team at <strong>Woodforest National Bank</strong> for sponsoring this event. &nbsp\; We&#39\;re excited to have <b>Bonefish Grill&nbsp\;</b>cater our lunch!</font>
LOCATION:St. Andrews Presbyterian Church 6952 St. Andrews Rd. Columbia\, SC 29212
UID:e.1333.3223
SEQUENCE:3
DTSTAMP:20260423T150344Z
URL:https://business.greaterirmochamber.com/events/details/august-2018-chamber-luncheon-3223
END:VEVENT

END:VCALENDAR
