BEGIN:VCALENDAR
VERSION:2.0
PRODID:-//ChamberMaster//Event Calendar 2.0//EN
METHOD:PUBLISH
X-PUBLISHED-TTL:P3D
REFRESH-INTERVAL:P3D
CALSCALE:GREGORIAN
BEGIN:VEVENT
DTSTART:20190814T153000Z
DTEND:20190814T170000Z
X-MICROSOFT-CDO-ALLDAYEVENT:FALSE
SUMMARY:August 2019 Chamber Luncheon
DESCRIPTION:Please join us for our August Chamber Luncheon on Wednesday\, August 14\, 2019 from 11:30am-1pm at St. Andrews Presbyterian Church.   This month\, we will welcome Joey Von Nessen from the Moore School of Business at USC.  A big thank you to one of our hotel partners\, Hyatt Place\, for sponsoring this event and we are pleased to announce that Hardee's will be catering!
X-ALT-DESC;FMTTYPE=text/html:<span style="font-family: arial\;">Please join us for our <strong>August</strong></span><strong style="font-family: arial\;">&nbsp\;Chamber Luncheon</strong><span style="font-family: arial\;">&nbsp\;on&nbsp\;</span><strong style="font-family: arial\;">Wednesday\, August 14\, 2019</strong><span style="font-family: arial\;">&nbsp\;from&nbsp\;</span><strong style="font-family: arial\;">11:30am-1pm</strong><span style="font-family: arial\;">&nbsp\;at&nbsp\;</span><strong style="font-family: arial\;">St. Andrews Presbyterian Church</strong><span style="font-family: arial\;">. &nbsp\;</span><font face="arial">&nbsp\;This month\, we will welcome <strong>Joey Von Nessen&nbsp\;</strong>from the Moore School of Business at USC. &nbsp\;A big thank you to one of our hotel partners\,&nbsp\;<strong>Hyatt Place\,</strong>&nbsp\;for sponsoring this event and we are pleased to announce that <strong>Hardee&#39\;s</strong> will be catering! &nbsp\;</font>
LOCATION:St. Andrews Presbyterian Church 6952 St. Andrews Rd. Columbia\, SC 29212
UID:e.1333.3347
SEQUENCE:3
DTSTAMP:20260422T201429Z
URL:https://business.greaterirmochamber.com/events/details/august-2019-chamber-luncheon-3347
END:VEVENT

END:VCALENDAR
