BEGIN:VCALENDAR
VERSION:2.0
PRODID:-//ChamberMaster//Event Calendar 2.0//EN
METHOD:PUBLISH
X-PUBLISHED-TTL:P3D
REFRESH-INTERVAL:P3D
CALSCALE:GREGORIAN
BEGIN:VEVENT
DTSTART:20200812T153000Z
DTEND:20200812T170000Z
X-MICROSOFT-CDO-ALLDAYEVENT:FALSE
SUMMARY:August 2020 Chamber Luncheon
DESCRIPTION:Please join us for our August Chamber Luncheon on Wednesday\, August 12\, 2020 from 11:30am-1pm at Pawmetto Lifeline.  This is our first monthly meeting since the COVID-19 crisis hit in March and we are so excited to get everyone back together!  We will welcome Sarah Main\, Executive Director of the Lexington County Community Mental Health Center to discuss the mental health impact of the COVID-19 crisis on adults and children.  THANK YOU to our partners at Shaw Industries for making this event possible for us!!\n\n\n\nPLEASE NOTE:  Our partners at Pawmetto Lifeline have graciously offered to host us for this event.  They have a meeting space that will allow us to practice appropriate social distancing and they will have plenty of puppies and kitties on hand to make your day!!  Masks are required for entry into the event and will be required at all times except when eating or drinking.  Moe's will be providing BOXED lunches.  Additionally\, Oxi-Thyme\, one of our newest Marketing partners\, will sanitize and disinfect the room prior to the event using EPA registered Hydrogen Peroxide. \n\n\n\nTickets are $10 and all tickets to the event MUST be purchased in ADVANCE with a credit/debit card.  If you are a Marketing\, Emerald or Diamond Partner\, Law Enforcement or First Responder OR a Lunch Card Holder\, please email me to reserve your lunch. (ceo@greaterirmochamber.com)  \n\n\n\nNo cash or walk ups will be accepted.\n\n\n\nWe apologize for the inconvenience and abundance of rules but we're just trying to be responsible while continuing to grow this amazing and supportive Irmo Business Community!!
X-ALT-DESC;FMTTYPE=text/html:<font face="verdana" size="3">Please join us for our </font><strong style="font-family: verdana\; font-size: 16px\;">August</strong><strong style="font-family: arial\; font-size: 16px\;">&nbsp\;Chamber Luncheon</strong><font face="verdana" size="3">&nbsp\;on&nbsp\;</font><strong style="font-family: arial\; font-size: 16px\;">Wednesday\, August 12\, 2020</strong><font face="verdana" size="3">&nbsp\;from&nbsp\;</font><strong style="font-family: arial\; font-size: 16px\;">11:30am-1pm</strong><font face="verdana" size="3">&nbsp\;at&nbsp\;</font><strong style="font-family: arial\; font-size: 16px\;">Pawmetto Lifeline</strong><font face="verdana" size="3">. &nbsp\;This is our first monthly meeting since the COVID-19 crisis hit in March and we are so&nbsp\;excited to get everyone back together! &nbsp\;We will welcome </font><strong style="font-family: verdana\; font-size: 16px\;">Sarah Main\, Executive Director of the Lexington County Community Mental Health Center</strong><font face="verdana" size="3"> to discuss the mental health impact of the COVID-19 crisis on adults and children. &nbsp\;THANK YOU to our partners at </font><strong style="font-family: verdana\; font-size: 16px\;">Shaw Industries </strong><font face="verdana" size="3">for making this event possible for us!!</font><br />\n<br />\n<strong style="font-family: verdana\; font-size: 16px\;">PLEASE NOTE: &nbsp\;</strong><font face="verdana" size="3">Our partners at </font><strong style="font-family: verdana\; font-size: 16px\;">Pawmetto Lifeline</strong><font face="verdana" size="3"> have graciously offered to host us for this event. &nbsp\;They have a meeting space that will allow us to practice </font><strong style="font-family: verdana\; font-size: 16px\;">appropriate social distancing</strong><font face="verdana" size="3"> and they will have plenty of puppies and kitties on hand to make your day!! &nbsp\;</font><strong style="font-family: verdana\; font-size: 16px\;">Masks are&nbsp\;required for entry</strong><font face="verdana" size="3"> into the event and will be required at all times except when eating or drinking. &nbsp\;</font><strong style="font-family: verdana\; font-size: 16px\;">Moe&#39\;s</strong><font face="verdana" size="3"> will be providing </font><strong style="font-family: verdana\; font-size: 16px\;">BOXED lunches</strong><font face="verdana" size="3">. &nbsp\;Additionally\, <strong>Oxi-Thyme</strong>\, one of our newest Marketing partners\, will sanitize and disinfect the room prior to the event using EPA registered Hydrogen Peroxide.&nbsp\;</font><br />\n<br />\n<strong style="font-family: verdana\; font-size: 16px\;">Tickets are $10 and all tickets to the event MUST be purchased in ADVANCE with a credit/debit card.</strong><font face="verdana" size="3"> &nbsp\;</font><em style="font-family: verdana\; font-size: 16px\;"><strong>If you are a Marketing\, Emerald or Diamond Partner\, Law Enforcement or First Responder OR a Lunch Card Holder\, please email me to reserve your lunch.&nbsp\;</strong></em><font face="verdana" size="3">(</font><a href="mailto:ceo@greaterirmochamber.com" style="font-family: verdana\; font-size: 16px\;">ceo@greaterirmochamber.com</a><font face="verdana" size="3">) &nbsp\;</font><br />\n<br />\n<strong style="font-family: verdana\; font-size: 16px\;">No cash or walk ups will be accepted</strong><font face="verdana" size="3">.</font><br />\n<br />\n<strong style="font-family: verdana\; font-size: 16px\;">We apologize for the inconvenience and abundance of rules but we&#39\;re just trying to be responsible while continuing to grow this amazing and supportive Irmo Business Community!!</strong>
LOCATION:
UID:e.1333.3948
SEQUENCE:3
DTSTAMP:20260422T011923Z
URL:https://business.greaterirmochamber.com/events/details/august-2020-chamber-luncheon-3948
END:VEVENT

END:VCALENDAR
