BEGIN:VCALENDAR
VERSION:2.0
PRODID:-//ChamberMaster//Event Calendar 2.0//EN
METHOD:PUBLISH
X-PUBLISHED-TTL:P3D
REFRESH-INTERVAL:P3D
CALSCALE:GREGORIAN
BEGIN:VEVENT
DTSTART:20160810T153000Z
DTEND:20160810T170000Z
X-MICROSOFT-CDO-ALLDAYEVENT:FALSE
SUMMARY:August Chamber Luncheon
DESCRIPTION:August Chamber Luncheon\n\nSponsor:  Brookdale Senior Living\n\nSpeaker:  Catherine Templeton/Palmetto Shield\n\nCaterer:  Texas Roadhouse
X-ALT-DESC;FMTTYPE=text/html:August Chamber Luncheon<br />\nSponsor: &nbsp\;Brookdale Senior Living<br />\nSpeaker: &nbsp\;Catherine Templeton/Palmetto Shield<br />\nCaterer: &nbsp\;Texas Roadhouse
LOCATION:St. Andrews Presbyterian Church 6952 St. Andrews Road Columbia\, SC 29212
UID:e.1333.2428
SEQUENCE:3
DTSTAMP:20260425T034022Z
URL:https://business.greaterirmochamber.com/events/details/august-chamber-luncheon-08-10-2016-2428
END:VEVENT

END:VCALENDAR
