BEGIN:VCALENDAR
VERSION:2.0
PRODID:-//ChamberMaster//Event Calendar 2.0//EN
METHOD:PUBLISH
X-PUBLISHED-TTL:P3D
REFRESH-INTERVAL:P3D
CALSCALE:GREGORIAN
BEGIN:VEVENT
DTSTART;VALUE=DATE:20180813
DTEND;VALUE=DATE:20180814
TRANSP:TRANSPARENT
X-MICROSOFT-CDO-ALLDAYEVENT:TRUE
SUMMARY:August Chamber Service Project: Clothe A Child
DESCRIPTION:Kohl's Harbison and Chapin Baptist Church will be partnering to help provide $100 vouchers to local children for back-to-school clothing.  Please contact Kim Mitchell\, Community Service Chair\, at kmitchell@cassellbros.com to be a volunteer and help these children shop for school clothes!
X-ALT-DESC;FMTTYPE=text/html:<strong>Kohl&#39\;s Harbison</strong> and <strong>Chapin Baptist Church</strong> will be partnering to help provide $100 vouchers to local children for back-to-school clothing. &nbsp\;Please contact <strong>Kim Mitchell</strong>\, Community Service Chair\, at <strong>kmitchell@cassellbros.com</strong> to be a volunteer and help these children shop for school clothes!
LOCATION:
UID:e.1333.3250
SEQUENCE:3
DTSTAMP:20260423T152107Z
URL:https://business.greaterirmochamber.com/events/details/august-chamber-service-project-clothe-a-child-3250
END:VEVENT

END:VCALENDAR
