BEGIN:VCALENDAR
VERSION:2.0
PRODID:-//ChamberMaster//Event Calendar 2.0//EN
METHOD:PUBLISH
X-PUBLISHED-TTL:P3D
REFRESH-INTERVAL:P3D
CALSCALE:GREGORIAN
BEGIN:VEVENT
DTSTART:20190727T150000Z
DTEND:20190728T220000Z
X-MICROSOFT-CDO-ALLDAYEVENT:FALSE
SUMMARY:Back 2 School BLOCK PARTY - Staples
DESCRIPTION:Back 2 School BLOCK PARTY\n\nFood\, Games\, Raffles & Music\n\nBring the Whole Family!\n\n20% off coupon for purchases!
X-ALT-DESC;FMTTYPE=text/html:Back 2 School BLOCK PARTY<br />\nFood\, Games\, Raffles &amp\; Music<br />\nBring the Whole Family!<br />\n20% off coupon for purchases!
LOCATION:Staples - Harbison 320 Harbison Boulevard\, Suite B Columbia\, SC 29212
UID:e.1333.3345
SEQUENCE:3
DTSTAMP:20260422T231206Z
URL:https://business.greaterirmochamber.com/events/details/back-2-school-block-party-staples-3345
END:VEVENT

END:VCALENDAR
