BEGIN:VCALENDAR
VERSION:2.0
PRODID:-//ChamberMaster//Event Calendar 2.0//EN
METHOD:PUBLISH
X-PUBLISHED-TTL:P3D
REFRESH-INTERVAL:P3D
CALSCALE:GREGORIAN
BEGIN:VEVENT
DTSTART:20200826T150000Z
DTEND:20200826T200000Z
X-MICROSOFT-CDO-ALLDAYEVENT:FALSE
SUMMARY:Ballentine Blood Drive
DESCRIPTION:Sign up for a time to donate blood! The Blood Connection is providing all donors with $20 VISA gift cards. In addition\, all donors will be screened for COVID-19 Antibodies after every completed donation. Face coverings are required while donating. Sign up to donate at the link below! https://donate.thebloodconnection.org/donor/schedules/drive_schedule/150798
X-ALT-DESC;FMTTYPE=text/html:Sign up for a time to donate blood! The Blood Connection is providing all donors with $20 VISA gift cards. In addition\, all donors will be screened for COVID-19 Antibodies after every completed donation. Face coverings are required while donating. Sign up to donate at the link below! https://donate.thebloodconnection.org/donor/schedules/drive_schedule/150798
LOCATION:Security Federal Bank - 1790 Dutch Fork Road\, Irmo\, SC
UID:e.1333.3952
SEQUENCE:3
DTSTAMP:20260422T012024Z
URL:https://business.greaterirmochamber.com/events/details/ballentine-blood-drive-3952
END:VEVENT

END:VCALENDAR
