BEGIN:VCALENDAR
VERSION:2.0
PRODID:-//ChamberMaster//Event Calendar 2.0//EN
METHOD:PUBLISH
X-PUBLISHED-TTL:P3D
REFRESH-INTERVAL:P3D
CALSCALE:GREGORIAN
BEGIN:VEVENT
DTSTART:20160929T140000Z
DTEND:20160929T183000Z
X-MICROSOFT-CDO-ALLDAYEVENT:FALSE
SUMMARY:BeWell@Home Seminar
DESCRIPTION:BeWell@Home Educational Seminar\n\nYou will learn more about the program\, who it is right for\, what it costs\, and how it can help you live at home successfully and safely.
X-ALT-DESC;FMTTYPE=text/html:BeWell@Home Educational Seminar<br />\nYou will learn more about the program\, who it is right for\, what it costs\, and how it can help you live at home successfully and safely.
LOCATION:Irmo Chamber 1235 Columbia Avenue Irmo\, SC 29063
UID:e.1333.2467
SEQUENCE:3
DTSTAMP:20260425T020439Z
URL:https://business.greaterirmochamber.com/events/details/bewell-home-seminar-09-29-2016-2467
END:VEVENT

END:VCALENDAR
