BEGIN:VCALENDAR
VERSION:2.0
PRODID:-//ChamberMaster//Event Calendar 2.0//EN
METHOD:PUBLISH
X-PUBLISHED-TTL:P3D
REFRESH-INTERVAL:P3D
CALSCALE:GREGORIAN
BEGIN:VEVENT
DTSTART:20170919T220000Z
DTEND:20171003T220000Z
X-MICROSOFT-CDO-ALLDAYEVENT:FALSE
SUMMARY:Birthright of Columbia-Office Volunteer Training
DESCRIPTION:Birthright of Columbia a pro-life emergency pregnancy service will begin training for Office Volunteers - individuals who provide one-on-one assistance to girls and women who are faced with an unplanned or problem pregnancy.\n\nFor info: Call Georgia at 765-0165 or email:  georgia@birthrightofcolumbia.org
X-ALT-DESC;FMTTYPE=text/html:Birthright of Columbia a pro-life emergency pregnancy service will begin training for Office Volunteers - individuals who provide one-on-one assistance to girls and women who are faced with an unplanned or problem pregnancy.<br />\nFor info: Call Georgia at 765-0165 or email: &nbsp\;georgia@birthrightofcolumbia.org
LOCATION:1405 Gregg Street Columbia\, SC
UID:e.1333.2906
SEQUENCE:3
DTSTAMP:20260424T065305Z
URL:https://business.greaterirmochamber.com/events/details/birthright-of-columbia-office-volunteer-training-2906
END:VEVENT

END:VCALENDAR
