BEGIN:VCALENDAR
VERSION:2.0
PRODID:-//ChamberMaster//Event Calendar 2.0//EN
METHOD:PUBLISH
X-PUBLISHED-TTL:P3D
REFRESH-INTERVAL:P3D
CALSCALE:GREGORIAN
BEGIN:VEVENT
DTSTART:20251118T220000Z
DTEND:20251119T010000Z
X-MICROSOFT-CDO-ALLDAYEVENT:FALSE
SUMMARY:Blessing Baskets 2025
DESCRIPTION:SAVE THE DATE!! It's back! ?? Blessing Baskets + Karaoke   Nov 18 We're thrilled to host the 4th Annual Blessing Basket Event on Tuesday\, Nov 18 at Craft and Draft Irmo!\n\n\n\nLast year our community collected 116 baskets for local families this year we're going even bigger. Expect karaoke during drop-off\, door prizes\, and the best kind of networking people who love giving back. How to help: Bring a filled basket (or a few!) and invite a friend.\n\n\n\n***Please register how may baskets you plan on donating here. Please have your friends and family register their baskets too: https://bit.ly/4mgqACv Host by Relator\, Corrina Thomas\, Realtor   Keller Williams | Your Key To SOLD 803-600-7780 | YourKeyToSOLD@gmail.com Questions or real estate needs? I'm happy to help.
X-ALT-DESC;FMTTYPE=text/html:<span style="font-size:16px\;"><span style="font-family:verdana\;">SAVE THE DATE!! It&rsquo\;s back! ?? Blessing Baskets + Karaoke &ndash\; Nov 18 We&rsquo\;re thrilled to host the 4th Annual Blessing Basket Event on Tuesday\, Nov 18 at Craft and Draft Irmo!<br />\n<br />\nLast year our community collected 116 baskets for local families&mdash\;this year we&rsquo\;re going even bigger. Expect karaoke during drop-off\, door prizes\, and the best kind of networking&mdash\;people who love giving back. How to help: Bring a filled basket (or a few!) and invite a friend.<br />\n<br />\n***Please register how may baskets you plan on donating here. Please have your friends and family register their baskets too: https://bit.ly/4mgqACv Host by Relator\, Corrina Thomas\, Realtor &ndash\; Keller Williams | Your Key To SOLD 803-600-7780 | YourKeyToSOLD@gmail.com Questions or real estate needs? I&rsquo\;m happy to help.</span></span>
LOCATION:Craft & Draft Irmo
UID:e.1333.6234
SEQUENCE:3
DTSTAMP:20260422T232952Z
URL:https://business.greaterirmochamber.com/events/details/blessing-baskets-2025-6234
END:VEVENT

END:VCALENDAR
