BEGIN:VCALENDAR
VERSION:2.0
PRODID:-//ChamberMaster//Event Calendar 2.0//EN
METHOD:PUBLISH
X-PUBLISHED-TTL:P3D
REFRESH-INTERVAL:P3D
CALSCALE:GREGORIAN
BEGIN:VEVENT
DTSTART:20170112T200000Z
DTEND:20170113T000000Z
X-MICROSOFT-CDO-ALLDAYEVENT:FALSE
SUMMARY:Block Advisors Ribbon Cutting
DESCRIPTION:Join us to welcome Block Advisors! Ribbon Cutting at 4:00 p.m.
X-ALT-DESC;FMTTYPE=text/html:Join us to welcome Block Advisors! Ribbon Cutting at 4:00 p.m.
LOCATION:105 Afton Court\, Suite B Columbia\, SC 29212
UID:e.1333.2505
SEQUENCE:3
DTSTAMP:20260424T200013Z
URL:https://business.greaterirmochamber.com/events/details/block-advisors-ribbon-cutting-2505
END:VEVENT

END:VCALENDAR
