BEGIN:VCALENDAR
VERSION:2.0
PRODID:-//ChamberMaster//Event Calendar 2.0//EN
METHOD:PUBLISH
X-PUBLISHED-TTL:P3D
REFRESH-INTERVAL:P3D
CALSCALE:GREGORIAN
BEGIN:VEVENT
DTSTART:20170612T150000Z
DTEND:20170612T200000Z
X-MICROSOFT-CDO-ALLDAYEVENT:FALSE
SUMMARY:Blood Drive sponsored by Free Times
DESCRIPTION:Red Cross Blood Drive sponsored  by Free Times!\n\nJoin Miss SC 2016 Rachel Wyatt from 12:00 - 2:00 p.m.\n\nTo schedule your donation: redcrossblood.org\n\nEnter code:  FreeTimes
X-ALT-DESC;FMTTYPE=text/html:Red Cross Blood Drive sponsored &nbsp\;by Free Times!<br />\nJoin Miss SC 2016 Rachel Wyatt from 12:00 - 2:00 p.m.<br />\nTo schedule your donation: redcrossblood.org<br />\nEnter code: &nbsp\;FreeTimes
LOCATION:Columbiana Centre
UID:e.1333.2565
SEQUENCE:3
DTSTAMP:20260424T125123Z
URL:https://business.greaterirmochamber.com/events/details/blood-drive-sponsored-by-free-times-2565
END:VEVENT

END:VCALENDAR
