BEGIN:VCALENDAR
VERSION:2.0
PRODID:-//ChamberMaster//Event Calendar 2.0//EN
METHOD:PUBLISH
X-PUBLISHED-TTL:P3D
REFRESH-INTERVAL:P3D
CALSCALE:GREGORIAN
BEGIN:VEVENT
DTSTART:20191012T120000Z
DTEND:20191012T160000Z
X-MICROSOFT-CDO-ALLDAYEVENT:FALSE
SUMMARY:Breast Cancer Awareness/Coffee & Coverage at the Village Club
DESCRIPTION:The American Cancer Society reports 1 in 3 women are likely to experience cancer in their lifetime. 1 in 8 women will confront breast cancer. The physical and emotional tolls of this disease alone are monumental. The financial impact can be devastating. Neighbor and Family Heritage Representative\, Tom Hickey will be available to help with solutions to the financial impacts of cancer\, and other diseases / Injury. Please stop the clubhouse. Family Heritage plans are guaranteed renewable. The plans include No Lifetime Limits and Return of Premium benefits. If you are interested in learning more\, but are not able to attend please contact Tom at (912)321-8978\, or thickey@protect1family.com.
X-ALT-DESC;FMTTYPE=text/html:<span style="font-family:helvetica\; font-size:12px">The American Cancer Society reports 1 in 3 women are likely to experience cancer in their lifetime. 1 in 8 women will confront breast cancer. The physical and emotional tolls of this disease alone are monumental. The financial impact can be devastating. Neighbor and Family Heritage Representative\, Tom Hickey will be available to help with solutions to the financial impacts of cancer\, and other diseases / Injury. Please stop the clubhouse. Family Heritage plans are guaranteed renewable. The plans include No Lifetime Limits and Return of Premium benefits. If you are interested in learning more\, but are not able to attend please contact Tom at (912)321-8978\, or&nbsp\;</span><a href="mailto:thickey@protect1family.com" style="color: rgb(109\, 198\, 221)\; word-wrap: break-word\; font-family: Helvetica\; font-size: 12px\;" target="_blank"><span style="color:rgb(0\, 0\, 0)">thickey@protect1family.com</span></a><span style="font-family:helvetica\; font-size:12px">.</span>
LOCATION:109 Shoal Wood Drive\, Lexington\, SC 29072
UID:e.1333.3380
SEQUENCE:3
DTSTAMP:20260422T174016Z
URL:https://business.greaterirmochamber.com/events/details/breast-cancer-awareness-coffee-coverage-at-the-village-club-3380
END:VEVENT

END:VCALENDAR
