BEGIN:VCALENDAR
VERSION:2.0
PRODID:-//ChamberMaster//Event Calendar 2.0//EN
METHOD:PUBLISH
X-PUBLISHED-TTL:P3D
REFRESH-INTERVAL:P3D
CALSCALE:GREGORIAN
BEGIN:VEVENT
DTSTART:20191003T233000Z
DTEND:20191004T020000Z
X-MICROSOFT-CDO-ALLDAYEVENT:FALSE
SUMMARY:Brian Justin Crum
DESCRIPTION:Brian Justin Crum knew he was destined for stardom from an early age. Through viral videos from his time on America's Got Talent\, Broadway credentials\, and chart-topping singles\, his performances have earned millions of online views that showcase his vocal acrobatics. Between dropping covers like Robyn's Show Me Love that soared to #2 on the Billboard dance charts\, Crum also was one of the 50 acts from 184 countries chosen to participate in America's Got Talent: The Champions. He'll shine bright on the HT@MTC stage in partnership with South Carolina Pride!
X-ALT-DESC;FMTTYPE=text/html:Brian Justin Crum knew he was destined for stardom from an early age. Through viral videos from his time on America&rsquo\;s Got Talent\, Broadway credentials\, and chart-topping singles\, his performances have earned millions of online views that showcase his vocal acrobatics. Between dropping covers like Robyn&rsquo\;s Show Me Love that soared to #2 on the Billboard dance charts\, Crum also was one of the 50 acts from 184 countries chosen to participate in America&rsquo\;s Got Talent: The Champions. He&rsquo\;ll shine bright on the HT@MTC stage in partnership with South Carolina Pride!
LOCATION:Harbison Theatre at Midlands Technical College 7300 College Street Irmo\, SC 29063
UID:e.1333.3375
SEQUENCE:3
DTSTAMP:20260422T173507Z
URL:https://business.greaterirmochamber.com/events/details/brian-justin-crum-3375
END:VEVENT

END:VCALENDAR
