BEGIN:VCALENDAR
VERSION:2.0
PRODID:-//ChamberMaster//Event Calendar 2.0//EN
METHOD:PUBLISH
X-PUBLISHED-TTL:P3D
REFRESH-INTERVAL:P3D
CALSCALE:GREGORIAN
BEGIN:VEVENT
DTSTART:20251122T140000Z
DTEND:20251122T160000Z
X-MICROSOFT-CDO-ALLDAYEVENT:FALSE
SUMMARY:Bring a Friend day at Webhead Fitness
DESCRIPTION:Grab your best friend and join us for this free community workout!\n\n\n\nOur workouts are scalable to all fitness level! It's always more fun with friends. Especially goal chasing!
X-ALT-DESC;FMTTYPE=text/html:<span style="font-size:16px\;"><span style="font-family:verdana\;">Grab your best friend and join us for this free community workout!<br />\n<br />\nOur workouts are scalable to all fitness level! It&#39\;s always more fun with friends. Especially goal chasing!</span></span>
LOCATION:Webhead Fitness WERQhouse 4611 Broad River\, Columbia\, SC 29210
UID:e.1333.6240
SEQUENCE:3
DTSTAMP:20260422T233855Z
URL:https://business.greaterirmochamber.com/events/details/bring-a-friend-day-at-webhead-fitness-6240
END:VEVENT

END:VCALENDAR
