BEGIN:VCALENDAR
VERSION:2.0
PRODID:-//ChamberMaster//Event Calendar 2.0//EN
METHOD:PUBLISH
X-PUBLISHED-TTL:P3D
REFRESH-INTERVAL:P3D
CALSCALE:GREGORIAN
BEGIN:VEVENT
DTSTART:20230427T153000Z
DTEND:20230427T163000Z
X-MICROSOFT-CDO-ALLDAYEVENT:FALSE
SUMMARY:Burn Boot Camp - Lake Murray Ribbon Cutting
DESCRIPTION:Join us to welcome Burn Boot Camp - Lake Murray to our Chamber.\n\nRibbon cutting at 11:45 a.m.\n\nA light lunch will be provided.
X-ALT-DESC;FMTTYPE=text/html:<span style="font-family:verdana\;"><span style="font-size:16px\;">Join us to welcome<strong> Burn Boot Camp - Lake Murray</strong> to our Chamber.<br />\nRibbon cutting at 11:45 a.m.<br />\nA light lunch will be provided.</span></span>
LOCATION:7595 St. Andrews Road Irmo\, SC
UID:e.1333.5064
SEQUENCE:3
DTSTAMP:20260424T194621Z
URL:https://business.greaterirmochamber.com/events/details/burn-boot-camp-lake-murray-ribbon-cutting-5064
END:VEVENT

END:VCALENDAR
