BEGIN:VCALENDAR
VERSION:2.0
PRODID:-//ChamberMaster//Event Calendar 2.0//EN
METHOD:PUBLISH
X-PUBLISHED-TTL:P3D
REFRESH-INTERVAL:P3D
CALSCALE:GREGORIAN
BEGIN:VEVENT
DTSTART:20190717T210000Z
DTEND:20190717T230000Z
X-MICROSOFT-CDO-ALLDAYEVENT:FALSE
SUMMARY:Business After Hours - ALOFT Hotel
DESCRIPTION:Join us at ALOFT Hotel for Business After Hours!  Enjoy free appetizers and drink specials!
X-ALT-DESC;FMTTYPE=text/html:Join us at ALOFT Hotel for Business After Hours!&nbsp\; Enjoy free appetizers and drink specials!
LOCATION:217 Lanneau Court Columbia\, SC 29212
UID:e.1333.3339
SEQUENCE:3
DTSTAMP:20260422T231335Z
URL:https://business.greaterirmochamber.com/events/details/business-after-hours-aloft-hotel-3339
END:VEVENT

END:VCALENDAR
