BEGIN:VCALENDAR
VERSION:2.0
PRODID:-//ChamberMaster//Event Calendar 2.0//EN
METHOD:PUBLISH
X-PUBLISHED-TTL:P3D
REFRESH-INTERVAL:P3D
CALSCALE:GREGORIAN
BEGIN:VEVENT
DTSTART:20191211T213000Z
DTEND:20191212T000000Z
X-MICROSOFT-CDO-ALLDAYEVENT:FALSE
SUMMARY:Business After Hours - ALOFT Hotel
DESCRIPTION:Join us at ALOFT Hotel for a Business After Hours!\n\nEnjoy appetizers and drink specials!
X-ALT-DESC;FMTTYPE=text/html:Join us at ALOFT Hotel for a Business After Hours!<br />\nEnjoy appetizers and drink specials!
LOCATION:ALOFT Hotel 217 Lanneau Court Columbia\, SC 29212
UID:e.1333.3399
SEQUENCE:3
DTSTAMP:20260422T161036Z
URL:https://business.greaterirmochamber.com/events/details/business-after-hours-aloft-hotel-3399
END:VEVENT

END:VCALENDAR
