BEGIN:VCALENDAR
VERSION:2.0
PRODID:-//ChamberMaster//Event Calendar 2.0//EN
METHOD:PUBLISH
X-PUBLISHED-TTL:P3D
REFRESH-INTERVAL:P3D
CALSCALE:GREGORIAN
BEGIN:VEVENT
DTSTART:20190917T210000Z
DTEND:20190917T230000Z
X-MICROSOFT-CDO-ALLDAYEVENT:FALSE
SUMMARY:Business After Hours - Atlantic @ Parkridge
DESCRIPTION:Join us at Atlantic @ Parkridge for appetizers and drink specials!!!\n\nNetwork with other members at this Business After Hours!!!
X-ALT-DESC;FMTTYPE=text/html:Join us at Atlantic @ Parkridge for appetizers and drink specials!!!<br />\nNetwork with other members at this Business After Hours!!!
LOCATION:356 Lake Murray Boulevard Irmo\, SC 29063
UID:e.1333.3360
SEQUENCE:3
DTSTAMP:20260422T190138Z
URL:https://business.greaterirmochamber.com/events/details/business-after-hours-atlantic-parkridge-3360
END:VEVENT

END:VCALENDAR
