BEGIN:VCALENDAR
VERSION:2.0
PRODID:-//ChamberMaster//Event Calendar 2.0//EN
METHOD:PUBLISH
X-PUBLISHED-TTL:P3D
REFRESH-INTERVAL:P3D
CALSCALE:GREGORIAN
BEGIN:VEVENT
DTSTART:20251118T213000Z
DTEND:20251118T230000Z
X-MICROSOFT-CDO-ALLDAYEVENT:FALSE
SUMMARY:Business After Hours: Bonefish Grill
DESCRIPTION:Join us at Bonefish Grill for delicious appetizers and drink specials!!!
X-ALT-DESC;FMTTYPE=text/html:<span style="font-family:verdana\;"><span style="font-size: 16px\;">Join us at&nbsp\;<strong>Bonefish Grill&nbsp\;</strong>for&nbsp\;delicious appetizers and drink specials!!!</span></span>
LOCATION:Bonefish Grill 1260 Bower Parkway Columbia\, SC
UID:e.1333.6231
SEQUENCE:3
DTSTAMP:20260423T011106Z
URL:https://business.greaterirmochamber.com/events/details/business-after-hours-bonefish-grill-11-18-2025-6231
END:VEVENT

END:VCALENDAR
