BEGIN:VCALENDAR
VERSION:2.0
PRODID:-//ChamberMaster//Event Calendar 2.0//EN
METHOD:PUBLISH
X-PUBLISHED-TTL:P3D
REFRESH-INTERVAL:P3D
CALSCALE:GREGORIAN
BEGIN:VEVENT
DTSTART:20191030T210000Z
DTEND:20191030T230000Z
X-MICROSOFT-CDO-ALLDAYEVENT:FALSE
SUMMARY:Business After Hours - Hilton Garden Inn
DESCRIPTION:Join us for networking at our Business After Hours - Hilton Garden Inn!!\n\nEnjoy free appetizers and drink specials!
X-ALT-DESC;FMTTYPE=text/html:Join us for networking at our Business After Hours - Hilton Garden Inn!!<br />\nEnjoy free appetizers and drink specials!
LOCATION:Hilton Garden Inn 434 Columbiana Drive Columbia\, SC 29212
UID:e.1333.3378
SEQUENCE:3
DTSTAMP:20260422T174031Z
URL:https://business.greaterirmochamber.com/events/details/business-after-hours-hilton-garden-inn-3378
END:VEVENT

END:VCALENDAR
