BEGIN:VCALENDAR
VERSION:2.0
PRODID:-//ChamberMaster//Event Calendar 2.0//EN
METHOD:PUBLISH
X-PUBLISHED-TTL:P3D
REFRESH-INTERVAL:P3D
CALSCALE:GREGORIAN
BEGIN:VEVENT
DTSTART:20190828T210000Z
DTEND:20190828T230000Z
X-MICROSOFT-CDO-ALLDAYEVENT:FALSE
SUMMARY:Business After Hours - Hyatt Place
DESCRIPTION:Business After Hours - Hyatt Place\n\nJoin us for free appetizers and drink specials!!
X-ALT-DESC;FMTTYPE=text/html:Business After Hours - Hyatt Place<br />\nJoin us for free appetizers and drink specials!!
LOCATION:Hyatt Place 1130 Kinley Road Irmo\, SC 29063
UID:e.1333.3351
SEQUENCE:3
DTSTAMP:20260422T202107Z
URL:https://business.greaterirmochamber.com/events/details/business-after-hours-hyatt-place-3351
END:VEVENT

END:VCALENDAR
