BEGIN:VCALENDAR
VERSION:2.0
PRODID:-//ChamberMaster//Event Calendar 2.0//EN
METHOD:PUBLISH
X-PUBLISHED-TTL:P3D
REFRESH-INTERVAL:P3D
CALSCALE:GREGORIAN
BEGIN:VEVENT
DTSTART:20160824T210000Z
DTEND:20160824T230000Z
X-MICROSOFT-CDO-ALLDAYEVENT:FALSE
SUMMARY:Business After Hours-Hyatt Place Columbia/Harbison
DESCRIPTION:Hyatt Place Columbia/Harbison is newly renovated and ready to show off this beautiful property to the Irmo Community.  Join us for our August Business After Hours event!
X-ALT-DESC;FMTTYPE=text/html:Hyatt Place Columbia/Harbison is newly renovated and ready to show off this beautiful property to the Irmo Community. &nbsp\;Join us for our August Business After Hours event!
LOCATION:Hyatt Place Columbia/Harbison 1130 Kinley Rd. Irmo\, SC 29063 (Just off the I-26 at the Lake Murray Blvd exit)
UID:e.1333.2429
SEQUENCE:3
DTSTAMP:20260425T034238Z
URL:https://business.greaterirmochamber.com/events/details/business-after-hours-hyatt-place-columbia-harbison-08-24-2016-2429
END:VEVENT

END:VCALENDAR
