BEGIN:VCALENDAR
VERSION:2.0
PRODID:-//ChamberMaster//Event Calendar 2.0//EN
METHOD:PUBLISH
X-PUBLISHED-TTL:P3D
REFRESH-INTERVAL:P3D
CALSCALE:GREGORIAN
BEGIN:VEVENT
DTSTART:20191016T210000Z
DTEND:20191016T230000Z
X-MICROSOFT-CDO-ALLDAYEVENT:FALSE
SUMMARY:Business After Hours - National Chamber Day
DESCRIPTION:Come celebrate National Chamber Day with us at Carrabba's!!!!\n\nEnjoy free appetizers and drink specials!\n\nAlso\, cake samples from Nothing Bundt Cakes!!
X-ALT-DESC;FMTTYPE=text/html:Come celebrate National Chamber Day with us at Carrabba&#39\;s!!!!<br />\nEnjoy free appetizers and drink specials!<br />\nAlso\, cake samples from Nothing Bundt Cakes!!
LOCATION:Carrabba's 370 Columbiana Drive Columbia\, SC 29212
UID:e.1333.3372
SEQUENCE:3
DTSTAMP:20260422T185658Z
URL:https://business.greaterirmochamber.com/events/details/business-after-hours-national-chamber-day-3372
END:VEVENT

END:VCALENDAR
