BEGIN:VCALENDAR
VERSION:2.0
PRODID:-//ChamberMaster//Event Calendar 2.0//EN
METHOD:PUBLISH
X-PUBLISHED-TTL:P3D
REFRESH-INTERVAL:P3D
CALSCALE:GREGORIAN
BEGIN:VEVENT
DTSTART:20160914T210000Z
DTEND:20160914T230000Z
X-MICROSOFT-CDO-ALLDAYEVENT:FALSE
SUMMARY:Business After Hours-Palmetto Lifeline/Mosquito Joe
DESCRIPTION:Join us for our September Business After Hours at Pawmetto Lifeline presented by Mosquito Joe!  Come out and see this wonderful facility and all they are doing to help pets find their forever homes in our community!
X-ALT-DESC;FMTTYPE=text/html:Join us for our September Business After Hours at Pawmetto Lifeline presented by Mosquito Joe! &nbsp\;Come out and see this wonderful facility and all they are doing to help pets find their forever homes in our community! &nbsp\;
LOCATION:1275 Bower Parkway Columbia\, SC 29212
UID:e.1333.2421
SEQUENCE:3
DTSTAMP:20260425T020647Z
URL:https://business.greaterirmochamber.com/events/details/business-after-hours-palmetto-lifeline-mosquito-joe-2421
END:VEVENT

END:VCALENDAR
