BEGIN:VCALENDAR
VERSION:2.0
PRODID:-//ChamberMaster//Event Calendar 2.0//EN
METHOD:PUBLISH
X-PUBLISHED-TTL:P3D
REFRESH-INTERVAL:P3D
CALSCALE:GREGORIAN
BEGIN:VEVENT
DTSTART:20230425T210000Z
DTEND:20230425T230000Z
X-MICROSOFT-CDO-ALLDAYEVENT:FALSE
SUMMARY:Business After Hours - Residence Inn by Marriott
DESCRIPTION:Join us at Residence Inn by Marriott for a Business After Hours!  Enjoy appetizers by The Bistro and complimentary drinks.
X-ALT-DESC;FMTTYPE=text/html:<font face="verdana"><span style="font-size: 16px\;">Join us at <strong>Residence Inn by Marriott</strong> for a Business After Hours!&nbsp\; Enjoy appetizers by&nbsp\;<strong>The Bistro </strong>and<strong>&nbsp\;</strong>complimentary drinks.</span></font>
LOCATION:944 Lake Murray Boulevard Irmo\, SC
UID:e.1333.5031
SEQUENCE:3
DTSTAMP:20260424T182431Z
URL:https://business.greaterirmochamber.com/events/details/business-after-hours-residence-inn-by-marriott-5031
END:VEVENT

END:VCALENDAR
