BEGIN:VCALENDAR
VERSION:2.0
PRODID:-//ChamberMaster//Event Calendar 2.0//EN
METHOD:PUBLISH
X-PUBLISHED-TTL:P3D
REFRESH-INTERVAL:P3D
CALSCALE:GREGORIAN
BEGIN:VEVENT
DTSTART:20160811T210000Z
DTEND:20160811T230000Z
X-MICROSOFT-CDO-ALLDAYEVENT:FALSE
SUMMARY:Business After Hours - The Art of Dentistry
DESCRIPTION:Business After Hours - \n\nJoin us at The Art of Dentistry for a fun\, casual\, tropical evening!\n\nBring a friend!
X-ALT-DESC;FMTTYPE=text/html:Business After Hours -&nbsp\;<br />\nJoin us at The Art of Dentistry for a fun\, casual\, tropical evening!<br />\nBring a friend!
LOCATION:7505 St. Andrews Road Irmo\, SC 29063
UID:e.1333.2430
SEQUENCE:3
DTSTAMP:20260425T034257Z
URL:https://business.greaterirmochamber.com/events/details/business-after-hours-the-art-of-dentistry-08-11-2016-2430
END:VEVENT

END:VCALENDAR
