BEGIN:VCALENDAR
VERSION:2.0
PRODID:-//ChamberMaster//Event Calendar 2.0//EN
METHOD:PUBLISH
X-PUBLISHED-TTL:P3D
REFRESH-INTERVAL:P3D
CALSCALE:GREGORIAN
BEGIN:VEVENT
DTSTART:20170921T210000Z
DTEND:20170921T230000Z
X-MICROSOFT-CDO-ALLDAYEVENT:FALSE
SUMMARY:Business After Hours: The Art of Dentistry
DESCRIPTION:It's 5 O'Clock Somewhere!  Please join us for a fun night of t-shirts\, flip flops\, great music and a parrot!  Feel free to bring a friend to enjoy the evening with Dr. Greg Wych and his wonderful team at The Art of Dentistry.
X-ALT-DESC;FMTTYPE=text/html:It&#39\;s 5 O&#39\;Clock Somewhere! &nbsp\;Please join us for a fun night of t-shirts\, flip flops\, great music and a parrot! &nbsp\;Feel free to bring a friend to enjoy the evening with Dr. Greg Wych&nbsp\;and his wonderful team at The Art of Dentistry. &nbsp\;
LOCATION:7505 St. Andrews Rd. Irmo\, SC 29063
UID:e.1333.2893
SEQUENCE:3
DTSTAMP:20260424T095512Z
URL:https://business.greaterirmochamber.com/events/details/business-after-hours-the-art-of-dentistry-2893
END:VEVENT

END:VCALENDAR
