BEGIN:VCALENDAR
VERSION:2.0
PRODID:-//ChamberMaster//Event Calendar 2.0//EN
METHOD:PUBLISH
X-PUBLISHED-TTL:P3D
REFRESH-INTERVAL:P3D
CALSCALE:GREGORIAN
BEGIN:VEVENT
DTSTART:20190613T210000Z
DTEND:20190614T010000Z
X-MICROSOFT-CDO-ALLDAYEVENT:FALSE
SUMMARY:Business After Hours - Woodmen Life
DESCRIPTION:Woodmen Life is hosting the Irmo Chamber once again for a business after hours on the lake! Live music from Tokyo Joe and plenty of eats and drinks. Hope to see you at this great networking event!
X-ALT-DESC;FMTTYPE=text/html:<span style="color: rgb(75\, 79\, 86)\; font-family: &quot\;San Francisco&quot\;\, -apple-system\, BlinkMacSystemFont\, &quot\;.SFNSText-Regular&quot\;\, sans-serif\; font-size: 14px\; letter-spacing: -0.24px\; background-color: rgb(255\, 255\, 255)\;">Woodmen Life is hosting the Irmo Chamber once again for a business after hours on the lake! Live music from Tokyo Joe and plenty of eats and drinks. Hope to see you at this great networking event!</span>
LOCATION:Woodmen Life Lodge 2000 Johnson Marina Road Chapin\, SC
UID:e.1333.3327
SEQUENCE:3
DTSTAMP:20260423T004538Z
URL:https://business.greaterirmochamber.com/events/details/business-after-hours-woodmen-life-3327
END:VEVENT

END:VCALENDAR
