BEGIN:VCALENDAR
VERSION:2.0
PRODID:-//ChamberMaster//Event Calendar 2.0//EN
METHOD:PUBLISH
X-PUBLISHED-TTL:P3D
REFRESH-INTERVAL:P3D
CALSCALE:GREGORIAN
BEGIN:VEVENT
DTSTART:20260520T123000Z
DTEND:20260520T140000Z
X-MICROSOFT-CDO-ALLDAYEVENT:FALSE
SUMMARY:Business Bites: Turning Data Into Decisions
DESCRIPTION:Turning Data Into Decisions\n\nAre you making business decisions based on guesswork or real data?\n\nJoin Paul Larosa with 8 Furlong Consulting for a practical\, no-fluff workshop designed for small business owners who want to improve profitability\, efficiency\, and growth. In this session\, you'll learn how to use simple data from your operations\, finances\, sales\, and marketing to make smarter decisions that drive real results.\n\nWe'll break down what numbers actually matter\, how to track them without overwhelm\, and how to turn insights into action no advanced systems required.\n\nIf you want more control over your business and better outcomes from the work you're already doing\, this session is for you.\n\nWalk away with actionable strategies you can start using immediately.
X-ALT-DESC;FMTTYPE=text/html:<p style="caret-color: rgb(0\, 0\, 0)\; color: rgb(0\, 0\, 0)\; font-family: Aptos\;"><span style="font-size:18px\;"><span style="font-family:verdana\;"><strong>Turning Data Into Decisions</strong></span></span></p>\n\n<p style="caret-color: rgb(0\, 0\, 0)\; color: rgb(0\, 0\, 0)\; font-family: Aptos\;"><span style="font-size:18px\;"><span style="font-family:verdana\;">Are you making business decisions based on guesswork&mdash\;or real data?</span></span></p>\n\n<p style="caret-color: rgb(0\, 0\, 0)\; color: rgb(0\, 0\, 0)\; font-family: Aptos\;"><span style="font-size:18px\;"><span style="font-family:verdana\;">Join Paul Larosa with 8 Furlong Consulting&nbsp\;for a practical\, no-fluff workshop designed for small business owners who want to improve profitability\, efficiency\, and growth. In this session\, you&rsquo\;ll learn how to use simple data from your operations\, finances\, sales\, and marketing to make smarter decisions that drive real results.</span></span></p>\n\n<p style="caret-color: rgb(0\, 0\, 0)\; color: rgb(0\, 0\, 0)\; font-family: Aptos\;"><span style="font-size:18px\;"><span style="font-family:verdana\;">We&rsquo\;ll break down what numbers actually matter\, how to track them without overwhelm\, and how to turn insights into action&mdash\;no advanced systems required.</span></span></p>\n\n<p style="caret-color: rgb(0\, 0\, 0)\; color: rgb(0\, 0\, 0)\; font-family: Aptos\;"><span style="font-size:18px\;"><span style="font-family:verdana\;">If you want more control over your business and better outcomes from the work you&rsquo\;re already doing\, this session is for you.</span></span></p>\n\n<p style="caret-color: rgb(0\, 0\, 0)\; color: rgb(0\, 0\, 0)\; font-family: Aptos\;"><span style="font-size:18px\;"><span style="font-family:verdana\;"><strong>Walk away with actionable strategies you can start using immediately.</strong></span></span></p>\n
LOCATION:Irmo Chamber 1235 Columbia Avenue Irmo\, SC
UID:e.1333.6257
SEQUENCE:3
DTSTAMP:20260422T171040Z
URL:https://business.greaterirmochamber.com/events/details/business-bites-turning-data-into-decisions-6257
END:VEVENT

END:VCALENDAR
