BEGIN:VCALENDAR
VERSION:2.0
PRODID:-//ChamberMaster//Event Calendar 2.0//EN
METHOD:PUBLISH
X-PUBLISHED-TTL:P3D
REFRESH-INTERVAL:P3D
CALSCALE:GREGORIAN
BEGIN:VEVENT
DTSTART:20190710T114500Z
DTEND:20190710T130000Z
X-MICROSOFT-CDO-ALLDAYEVENT:FALSE
SUMMARY:Caffeinated Conversations: Workplace Culture - How You Can Craft It\, Build It and Maintain It
DESCRIPTION:Caffeinated Conversations: Workplace Culture - How You Can Craft It\, Build It and Maintain It\n\nWednesday\, July 10 | 7:45 a.m. \n\nUnited Way of the Midlands (1818 Blanding St.)\n\n\n\nJoin United Way's Small Business Alliance for this quarter's Caffeinated Conversations featuring an expert panel of local business owners who will share creative ideas on how to create a positive workplace culture and use this culture in the most effective ways. Our five panelists from various industries will share their experiences creating the culture within each of their own businesses. The panel will be moderated by Erin Vasallo from AppleOne and includes the guest speakers below:?\n\n	Crystal Gurtisen\, Electric Guard Dog\n	Jennifer Dorward\, Electric Guard Dog\n	Salinda Luker\, LukerCorp \n	Tara Davis\, AppleOne\n	Zach Minton\, K2 Tech\n\nLight refreshments will be provided. \n\nPlease register online at uway.org/events.
X-ALT-DESC;FMTTYPE=text/html:<big>Caffeinated Conversations: Workplace Culture - How You Can Craft It\, Build It and Maintain It</big><br />\nWednesday\, July 10 | 7:45 a.m.&nbsp\;<br />\nUnited Way of the Midlands (1818 Blanding St.)<br />\n<br />\nJoin United Way&#39\;s Small Business Alliance for this quarter&#39\;s Caffeinated Conversations featuring an expert&nbsp\;panel of local business owners who will share creative ideas on how to create a positive workplace culture and use this culture in the most effective ways. Our five panelists from various industries will share their experiences creating the culture within each of their own businesses. The panel will be moderated by Erin Vasallo from AppleOne and includes the guest speakers below:?\n<ul>\n	<li>Crystal Gurtisen\, Electric Guard Dog</li>\n	<li>Jennifer Dorward\, Electric Guard Dog</li>\n	<li>Salinda Luker\, LukerCorp&nbsp\;</li>\n	<li>Tara Davis\, AppleOne</li>\n	<li>Zach Minton\, K2 Tech</li>\n</ul>\nLight refreshments will be provided.&nbsp\;<br />\nPlease register online at uway.org/events.
LOCATION:United Way of the Midlands 1818 Blanding Street Columbia\, SC 29201
UID:e.1333.3346
SEQUENCE:3
DTSTAMP:20260422T214642Z
URL:https://business.greaterirmochamber.com/events/details/caffeinated-conversations-workplace-culture-how-you-can-craft-it-build-it-and-maintain-it-3346
END:VEVENT

END:VCALENDAR
