BEGIN:VCALENDAR
VERSION:2.0
PRODID:-//ChamberMaster//Event Calendar 2.0//EN
METHOD:PUBLISH
X-PUBLISHED-TTL:P3D
REFRESH-INTERVAL:P3D
CALSCALE:GREGORIAN
BEGIN:VEVENT
DTSTART:20171017T153000Z
DTEND:20171017T163000Z
X-MICROSOFT-CDO-ALLDAYEVENT:FALSE
SUMMARY:Cake Collection Boutique Grand Opening and Ribbon Cutting
DESCRIPTION:Join us to welcome Cake Collection Boutique to our Chamber!\n\nRibbon cutting at 11:45 p.m. and a light lunch will be provided!
X-ALT-DESC;FMTTYPE=text/html:Join us to welcome Cake Collection Boutique to our Chamber!<br />\nRibbon cutting at 11:45 p.m. and a light lunch will be provided!
LOCATION:Murraywood Center 7001 St. Andrews Road Columbia\, SC 29212
UID:e.1333.2916
SEQUENCE:3
DTSTAMP:20260424T065314Z
URL:https://business.greaterirmochamber.com/events/details/cake-collection-boutique-grand-opening-and-ribbon-cutting-2916
END:VEVENT

END:VCALENDAR
