BEGIN:VCALENDAR
VERSION:2.0
PRODID:-//ChamberMaster//Event Calendar 2.0//EN
METHOD:PUBLISH
X-PUBLISHED-TTL:P3D
REFRESH-INTERVAL:P3D
CALSCALE:GREGORIAN
BEGIN:VEVENT
DTSTART:20180221T223000Z
DTEND:20180222T000000Z
X-MICROSOFT-CDO-ALLDAYEVENT:FALSE
SUMMARY:Car Care Class: Jumping a Car
DESCRIPTION:Come on out to check out our free Car Care Class! This month we're discussing jumping a car. In a state of emergency\, knowing how to jump a car\, and how to do it correctly\, could save time\, money\, and energy\, all of which are valuable to all of us!\n\n\n\nFood is provided\, we just ask that you RSVP on our Facebook event so we know how many people are coming!
X-ALT-DESC;FMTTYPE=text/html:Come on out to check out our free Car Care Class! This month we&#39\;re discussing jumping a car. In a state of emergency\, knowing how to jump a car\, and how to do it correctly\, could save time\, money\, and energy\, all of which are valuable to all of us!<br />\n<br />\nFood is provided\, we just ask that you RSVP on our Facebook event so we know how many people are coming!
LOCATION:Minnie's Auto Repair
UID:e.1333.2946
SEQUENCE:3
DTSTAMP:20260424T003723Z
URL:https://business.greaterirmochamber.com/events/details/car-care-class-jumping-a-car-2946
END:VEVENT

END:VCALENDAR
