BEGIN:VCALENDAR
VERSION:2.0
PRODID:-//ChamberMaster//Event Calendar 2.0//EN
METHOD:PUBLISH
X-PUBLISHED-TTL:P3D
REFRESH-INTERVAL:P3D
CALSCALE:GREGORIAN
BEGIN:VEVENT
DTSTART:20170729T180000Z
DTEND:20170730T000000Z
X-MICROSOFT-CDO-ALLDAYEVENT:FALSE
SUMMARY:Carolina Ale House College Football Draft
DESCRIPTION:Experience College Football like never before!!!\n\nALL DRAFT PARTIES MUST BE COMPLETE BY AUG. 25\n\n$1\,000 in prizes\, Draft Day Parties\, Trophy for every league Champion\, Ever player gets a UCF shot glass/koozie and $10 CAH Gift Card Good for next visit\, weekly pick'em contests & Prizes on Facebook!
X-ALT-DESC;FMTTYPE=text/html:Experience College Football like never before!!!<br />\nALL DRAFT PARTIES MUST BE COMPLETE BY AUG. 25<br />\n$1\,000 in prizes\, Draft Day Parties\, Trophy for every league Champion\, Ever player gets a UCF shot glass/koozie and $10 CAH Gift Card Good for next visit\, weekly pick&#39\;em contests &amp\; Prizes on Facebook!<br />\n&nbsp\;
LOCATION:Carolina Ale House - Columbiana Drive
UID:e.1333.2885
SEQUENCE:3
DTSTAMP:20260424T125250Z
URL:https://business.greaterirmochamber.com/events/details/carolina-ale-house-college-football-draft-2885
END:VEVENT

END:VCALENDAR
