BEGIN:VCALENDAR
VERSION:2.0
PRODID:-//ChamberMaster//Event Calendar 2.0//EN
METHOD:PUBLISH
X-PUBLISHED-TTL:P3D
REFRESH-INTERVAL:P3D
CALSCALE:GREGORIAN
BEGIN:VEVENT
DTSTART:20161029T000000Z
DTEND:20161029T050000Z
X-MICROSOFT-CDO-ALLDAYEVENT:FALSE
SUMMARY:Carolina Ale House Halloween Party
DESCRIPTION:Join us at the Harbison location for a Halloween Party.  Come dressed in your best costume and try to win the $250.00 cash prize!\n\nDJ playing your favorite tunes!\n\nVista location: Pub Crawl\, Costume Contest and DJ.
X-ALT-DESC;FMTTYPE=text/html:Join us at the Harbison location for a Halloween Party. &nbsp\;Come dressed in your best costume and try to win the $250.00 cash prize!<br />\nDJ playing your favorite tunes!<br />\nVista location: Pub Crawl\, Costume Contest and DJ.
LOCATION:Carolina Ale House 407 Columbiana Drive Columbia\, SC 29212
UID:e.1333.2497
SEQUENCE:3
DTSTAMP:20260425T003109Z
URL:https://business.greaterirmochamber.com/events/details/carolina-ale-house-halloween-party-2497
END:VEVENT

END:VCALENDAR
