BEGIN:VCALENDAR
VERSION:2.0
PRODID:-//ChamberMaster//Event Calendar 2.0//EN
METHOD:PUBLISH
X-PUBLISHED-TTL:P3D
REFRESH-INTERVAL:P3D
CALSCALE:GREGORIAN
BEGIN:VEVENT
DTSTART:20160930T210000Z
DTEND:20160930T230000Z
X-MICROSOFT-CDO-ALLDAYEVENT:FALSE
SUMMARY:CASINO NIGHT AT HARBORCHASE OF COLUMBIA
DESCRIPTION:Are you feeling lucky? Relax\, unwind & socialize at HarborChase!\n\nWe'll provide drinks and chef-prepared appetizers while you and other professionals enjoy casino-style games.  While you're here\, make sure to tour our beautiful community and discover the exceptional lifestyle our residents enjoy every day. Don't forget to place your bets!\n\nCall today to RSVP and you'll be automatically entered into our fabulous prize drawing! (803) 781-2243.
X-ALT-DESC;FMTTYPE=text/html:Are you feeling lucky? Relax\, unwind &amp\; socialize at HarborChase!<br />\nWe&rsquo\;ll provide drinks and chef-prepared appetizers while you and other professionals enjoy casino-style games. &nbsp\;While you&rsquo\;re here\, make sure to tour our beautiful community and discover the exceptional lifestyle our residents enjoy every day. Don&#39\;t forget to place your bets!<br />\nCall today to RSVP and you&rsquo\;ll be automatically entered into our fabulous prize drawing! (803) 781-2243.&nbsp\;
LOCATION:HarborChase of Columbia 120 Fairforest Road Columbia\, SC 29212
UID:e.1333.2470
SEQUENCE:3
DTSTAMP:20260425T020707Z
URL:https://business.greaterirmochamber.com/events/details/casino-night-at-harborchase-of-columbia-2470
END:VEVENT

END:VCALENDAR
