BEGIN:VCALENDAR
VERSION:2.0
PRODID:-//ChamberMaster//Event Calendar 2.0//EN
METHOD:PUBLISH
X-PUBLISHED-TTL:P3D
REFRESH-INTERVAL:P3D
CALSCALE:GREGORIAN
BEGIN:VEVENT
DTSTART;VALUE=DATE:20160810
DTEND;VALUE=DATE:20160901
TRANSP:TRANSPARENT
X-MICROSOFT-CDO-ALLDAYEVENT:TRUE
SUMMARY:Cassell Brothers Back To School Shoe Drive
DESCRIPTION:To benefit Dawn Staley's non profit INNERSOLE whose mission is to effectively change the negative impact of poverty on children throughout the state of SC.  For the month of August\, Cassell Brothers Heating & Cooling will be collecting pairs of BRAND NEW shoes for school children who attend schools in under privileged school districts in our state.  Customers or patrons who drop off a BRAND NEW pair of shoes with Cassell Brothers will receive a "SHOEPON" for 10% off their next service call!
X-ALT-DESC;FMTTYPE=text/html:To benefit Dawn Staley&#39\;s&nbsp\;non profit INNERSOLE whose mission is to effectively change the negative impact of poverty on children throughout the state of SC. &nbsp\;For the month of August\, Cassell Brothers Heating &amp\; Cooling will be collecting pairs of BRAND NEW shoes for school children who attend schools in under&nbsp\;privileged school districts in our state. &nbsp\;Customers or patrons who drop off a BRAND NEW pair of shoes with Cassell Brothers will receive a &quot\;SHOEPON&quot\; for 10% off their next service call!
LOCATION:Cassell Brothers Heating & Cooling 10042 Broad River Rd. Irmo\, SC 29063 Monday-Friday 7am-6pm
UID:e.1333.2462
SEQUENCE:3
DTSTAMP:20260425T034238Z
URL:https://business.greaterirmochamber.com/events/details/cassell-brothers-back-to-school-shoe-drive-08-10-2016-2462
END:VEVENT

END:VCALENDAR
