BEGIN:VCALENDAR
VERSION:2.0
PRODID:-//ChamberMaster//Event Calendar 2.0//EN
METHOD:PUBLISH
X-PUBLISHED-TTL:P3D
REFRESH-INTERVAL:P3D
CALSCALE:GREGORIAN
BEGIN:VEVENT
DTSTART:20180912T180000Z
DTEND:20180912T210000Z
X-MICROSOFT-CDO-ALLDAYEVENT:FALSE
SUMMARY:Cassell Brothers Customer Appreciation Day
DESCRIPTION:Drop by Cassell Brothers Heating & Cooling for Custmer Appreciation Day and FREE Pelican's Snoballs!
X-ALT-DESC;FMTTYPE=text/html:Drop by Cassell Brothers Heating &amp\; Cooling for Custmer Appreciation Day and FREE Pelican&#39\;s Snoballs!
LOCATION:10029 Broad River Rd.\, Irmo\, SC 29063
UID:e.1333.3265
SEQUENCE:3
DTSTAMP:20260423T132716Z
URL:https://business.greaterirmochamber.com/events/details/cassell-brothers-customer-appreciation-day-3265
END:VEVENT

END:VCALENDAR
