BEGIN:VCALENDAR
VERSION:2.0
PRODID:-//ChamberMaster//Event Calendar 2.0//EN
METHOD:PUBLISH
X-PUBLISHED-TTL:P3D
REFRESH-INTERVAL:P3D
CALSCALE:GREGORIAN
BEGIN:VEVENT
DTSTART:20180812T190000Z
DTEND:20180812T220000Z
X-MICROSOFT-CDO-ALLDAYEVENT:FALSE
SUMMARY:Casting Call - "Confessions of a Good Man 2"
DESCRIPTION:WOW PRODUCTIONS IS HOLDING AUDITIONS FOR THE HIGHLY ANTICIPATED STAGE PLAY "CONFESSIONS OF A GOOD MAN 2" - One bad decision can cost you everything! When: Sunday\, August 12\, 2018 - By Registration Only! (Auditions can be submitted online or in person) Registration Deadline: Friday\, August 10 Where: WOW Performing Arts Center\, COLUMBIA\, SC Fee: Paid roles | Non-equity Casting Need: Principal and Understudy Roles
X-ALT-DESC;FMTTYPE=text/html:WOW PRODUCTIONS IS HOLDING AUDITIONS FOR THE HIGHLY ANTICIPATED STAGE PLAY &quot\;CONFESSIONS OF A GOOD MAN 2&quot\; - One bad decision can cost you everything! When: Sunday\, August 12\, 2018 - By Registration Only! (Auditions can be submitted online or in person) Registration Deadline: Friday\, August 10 Where: WOW Performing Arts Center\, COLUMBIA\, SC Fee: Paid roles | Non-equity Casting Need: Principal and Understudy Roles
LOCATION:WOW Performing Arts Center 5816 Shakespeare Rd\, Suite A Columbia\, SC 29223
UID:e.1333.3225
SEQUENCE:3
DTSTAMP:20260423T145756Z
URL:https://business.greaterirmochamber.com/events/details/casting-call-confessions-of-a-good-man-2-3225
END:VEVENT

END:VCALENDAR
