BEGIN:VCALENDAR
VERSION:2.0
PRODID:-//ChamberMaster//Event Calendar 2.0//EN
METHOD:PUBLISH
X-PUBLISHED-TTL:P3D
REFRESH-INTERVAL:P3D
CALSCALE:GREGORIAN
BEGIN:VEVENT
DTSTART:20181016T160000Z
DTEND:20181016T160000Z
X-MICROSOFT-CDO-ALLDAYEVENT:FALSE
SUMMARY:Cat on a Hot Tin Roof : National Theatre Live ON SCREEN
DESCRIPTION:With the future of the family at stake\, which version of the truth is real   and which will win out?
X-ALT-DESC;FMTTYPE=text/html:With the future of the family at stake\, which version of the truth is real &ndash\; and which will win out?
LOCATION:Harbison Theatre at Midlands Technical College 7300 College Street Irmo\, SC 29063
UID:e.1333.3231
SEQUENCE:3
DTSTAMP:20260423T115742Z
URL:https://business.greaterirmochamber.com/events/details/cat-on-a-hot-tin-roof-national-theatre-live-on-screen-3231
END:VEVENT

END:VCALENDAR
