BEGIN:VCALENDAR
VERSION:2.0
PRODID:-//ChamberMaster//Event Calendar 2.0//EN
METHOD:PUBLISH
X-PUBLISHED-TTL:P3D
REFRESH-INTERVAL:P3D
CALSCALE:GREGORIAN
BEGIN:VEVENT
DTSTART:20180425T190000Z
DTEND:20180425T200000Z
X-MICROSOFT-CDO-ALLDAYEVENT:FALSE
SUMMARY:Charles Schwab Grand Opening & Ribbon Cutting
DESCRIPTION:Please join us as we welcome the team at Charles Schwab to our Chamber family!  We'll have refreshments and we'll cut the ribbon around 3:45pm.  Hope to see you at this networking event!
X-ALT-DESC;FMTTYPE=text/html:Please join us as we welcome&nbsp\;the team at Charles Schwab to our Chamber family! &nbsp\;We&#39\;ll have refreshments and we&#39\;ll cut the ribbon around 3:45pm. &nbsp\;Hope to see you at this networking event!
LOCATION:952 Lake Murray Blvd.\, Unit D Irmo\, SC 29063 (next to Zoe's)
UID:e.1333.2941
SEQUENCE:3
DTSTAMP:20260423T211306Z
URL:https://business.greaterirmochamber.com/events/details/charles-schwab-grand-opening-ribbon-cutting-2941
END:VEVENT

END:VCALENDAR
