BEGIN:VCALENDAR
VERSION:2.0
PRODID:-//ChamberMaster//Event Calendar 2.0//EN
METHOD:PUBLISH
X-PUBLISHED-TTL:P3D
REFRESH-INTERVAL:P3D
CALSCALE:GREGORIAN
BEGIN:VEVENT
DTSTART;VALUE=DATE:20160701
DTEND;VALUE=DATE:20170701
TRANSP:TRANSPARENT
X-MICROSOFT-CDO-ALLDAYEVENT:TRUE
SUMMARY:Chuck Larsen Live & Silent Auction
DESCRIPTION:
X-ALT-DESC;FMTTYPE=text/html:
LOCATION:The Double Tree by Hilton
UID:e.1333.470
SEQUENCE:3
DTSTAMP:20260424T125308Z
URL:https://business.greaterirmochamber.com/events/details/chuck-larsen-live-silent-auction-11-12-2013-470
END:VEVENT

END:VCALENDAR
