BEGIN:VCALENDAR
VERSION:2.0
PRODID:-//ChamberMaster//Event Calendar 2.0//EN
METHOD:PUBLISH
X-PUBLISHED-TTL:P3D
REFRESH-INTERVAL:P3D
CALSCALE:GREGORIAN
BEGIN:VEVENT
DTSTART:20180526T133000Z
DTEND:20180526T153000Z
X-MICROSOFT-CDO-ALLDAYEVENT:FALSE
SUMMARY:Church and Community Leader Training
DESCRIPTION:Join us for Church Leader Training with Lighthouse for Life. During this meeting\, church + community leaders will be informed about sex trafficking and how to approach & report it. Sex trafficking is an epidemic that affects our local communities and needs to be addressed. As Christians we're called to be light in the darkness. Let's light up Columbia! Class Objectives: - Understand the Realities of Human Trafficking - Define human trafficking - Describe basic terminology - Identify types of human trafficking - Differentiate between myths and reality - Recognize risk factors and indicators related to human trafficking - Understand the Dangers of Social Media - Know what to do if you suspect someone is involved in human trafficking - Gain insight into the mindset of a victim and the affects of trauma on the mind - Identify possible barriers one might encounter when talking to a victim - Receive helpful tips to use when talking with a victim The class will last approximately 1.5 hrs and there will be time for questions. Youth workers\, childcare workers + church leaders are encouraged to attend. This class is open to all community members! A light breakfast with coffee + juice will be provided.
X-ALT-DESC;FMTTYPE=text/html:Join us for Church Leader Training with Lighthouse for Life. During this meeting\, church + community leaders will be informed about sex trafficking and how to approach &amp\; report it. Sex trafficking is an epidemic that affects our local communities and needs to be addressed. As Christians we&#39\;re called to be light in the darkness. Let&#39\;s light up Columbia! Class Objectives: - Understand the Realities of Human Trafficking - Define human trafficking - Describe basic terminology - Identify types of human trafficking - Differentiate between myths and reality - Recognize risk factors and indicators related to human trafficking - Understand the Dangers of Social Media - Know what to do if you suspect someone is involved in human trafficking - Gain insight into the mindset of a victim and the affects of trauma on the mind - Identify possible barriers one might encounter when talking to a victim - Receive helpful tips to use when talking with a victim The class will last approximately 1.5 hrs and there will be time for questions. Youth workers\, childcare workers + church leaders are encouraged to attend. This class is open to all community members! A light breakfast with coffee + juice will be provided.
LOCATION:312 St Andrews Road Columbia SC 29210
UID:e.1333.3000
SEQUENCE:3
DTSTAMP:20260423T194108Z
URL:https://business.greaterirmochamber.com/events/details/church-and-community-leader-training-3000
END:VEVENT

END:VCALENDAR
