BEGIN:VCALENDAR
VERSION:2.0
PRODID:-//ChamberMaster//Event Calendar 2.0//EN
METHOD:PUBLISH
X-PUBLISHED-TTL:P3D
REFRESH-INTERVAL:P3D
CALSCALE:GREGORIAN
BEGIN:VEVENT
DTSTART:20170505T210000Z
DTEND:20170505T230000Z
X-MICROSOFT-CDO-ALLDAYEVENT:FALSE
SUMMARY:Cinco De Mayo at the Irmo Chamber!
DESCRIPTION:Come join us on the back patio at the Chamber as we celebrate Cinco De Mayo! We'll have plenty of chips\, salsa\, margaritas and cerveza to go around.\n\n\n\nSpecial thanks to The Horne Davis Group at Morgan Stanley for sponsoring this event.
X-ALT-DESC;FMTTYPE=text/html:Come join us on the back patio at the Chamber as we celebrate Cinco De Mayo! We&#39\;ll have plenty of chips\, salsa\, margaritas and cerveza to go around.<br />\n<br />\nSpecial thanks to The Horne Davis Group at Morgan Stanley for sponsoring this event.
LOCATION:Greater Irmo Chamber of Commerce 1235 Columbia Ave. Irmo\, SC 29063
UID:e.1333.2550
SEQUENCE:3
DTSTAMP:20260424T142513Z
URL:https://business.greaterirmochamber.com/events/details/cinco-de-mayo-at-the-irmo-chamber-2550
END:VEVENT

END:VCALENDAR
