BEGIN:VCALENDAR
VERSION:2.0
PRODID:-//ChamberMaster//Event Calendar 2.0//EN
METHOD:PUBLISH
X-PUBLISHED-TTL:P3D
REFRESH-INTERVAL:P3D
CALSCALE:GREGORIAN
BEGIN:VEVENT
DTSTART:20180504T200000Z
DTEND:20180504T220000Z
X-MICROSOFT-CDO-ALLDAYEVENT:FALSE
SUMMARY:Cinco De Mayo at the Irmo Chamber
DESCRIPTION:Come to the Chamber and celebrate Cinco De Mayo with margaritas and some networking! Many thanks to the Shelley Woodward with Inland Home Mortgage and Corrina Hooker Thomas with Keller Williams for sponsoring this event this year!
X-ALT-DESC;FMTTYPE=text/html:<span style="color: rgb(29\, 33\, 41)\; font-family: system-ui\, -apple-system\, BlinkMacSystemFont\, &quot\;.SFNSText-Regular&quot\;\, sans-serif\; font-size: 12px\; white-space: pre-wrap\;">Come to the Chamber and celebrate <strong>Cinco De Mayo</strong> with margaritas and some networking! Many thanks to the <strong>Shelley Woodward with Inland Home Mortgage</strong> and <strong>Corrina Hooker Thomas with Keller Williams</strong> for sponsoring this event this year!</span>
LOCATION:Greater Irmo Chamber of Commerce 1235 Columbia Ave. Irmo\, SC 29063
UID:e.1333.2980
SEQUENCE:3
DTSTAMP:20260423T194147Z
URL:https://business.greaterirmochamber.com/events/details/cinco-de-mayo-at-the-irmo-chamber-2980
END:VEVENT

END:VCALENDAR
