BEGIN:VCALENDAR
VERSION:2.0
PRODID:-//ChamberMaster//Event Calendar 2.0//EN
METHOD:PUBLISH
X-PUBLISHED-TTL:P3D
REFRESH-INTERVAL:P3D
CALSCALE:GREGORIAN
BEGIN:VEVENT
DTSTART:20200505T210000Z
DTEND:20200505T220000Z
X-MICROSOFT-CDO-ALLDAYEVENT:FALSE
SUMMARY:Cinco De Mayo Virtual Happy Hour
DESCRIPTION:Normally we would be enjoying margaritas\, tacos and chips/salsa on the back patio at the #FunChamber for Cinco De Mayo but we can still celebrate even if we are in the middle of a pandemic!\n\n\n\nJoin us for a virtual Cinco De Mayo celebration on Tuesday\, May 5\, 2020 from 5PM-6PM via Zoom!  Brad Spehl with Steeplechase Financial (and mixologist extraordinaire) will be demonstrating TWO different margarita recipes for us and we'll throw in some networking as well.  Grab your favorite cocktail (and maybe a sombrero) and jump on our Zoom!
X-ALT-DESC;FMTTYPE=text/html:<span style="font-size:16px\;">Normally we would be enjoying margaritas\, tacos and chips/salsa on the back patio at the <strong>#FunChamber</strong> for <strong>Cinco De Mayo </strong>but we can still celebrate even if we are in the middle of a pandemic!</span><br />\n<br />\n<span style="font-size:16px\;">Join us for a <strong>virtual Cinco De Mayo</strong> celebration on <strong>Tuesday\, May 5\, 2020</strong> from <strong>5PM-6PM</strong> via <strong>Zoom</strong>! &nbsp\;<strong>Brad Spehl </strong>with <strong>Steeplechase Financial </strong>(and <em>mixologist extraordinaire</em>) will be demonstrating TWO different margarita recipes for us and we&#39\;ll throw in some networking as well. &nbsp\;Grab your favorite cocktail (and maybe a sombrero) and jump on our Zoom!</span>
LOCATION:https://us02web.zoom.us/j/84334026097?pwd=Ty9HZGRCMlNqQlpydHNlMjl6WnpaQT09 Meeting ID: 843 3402 6097 Password: 008671
UID:e.1333.3693
SEQUENCE:3
DTSTAMP:20260422T064318Z
URL:https://business.greaterirmochamber.com/events/details/cinco-de-mayo-virtual-happy-hour-3693
END:VEVENT

END:VCALENDAR
