BEGIN:VCALENDAR
VERSION:2.0
PRODID:-//ChamberMaster//Event Calendar 2.0//EN
METHOD:PUBLISH
X-PUBLISHED-TTL:P3D
REFRESH-INTERVAL:P3D
CALSCALE:GREGORIAN
BEGIN:VEVENT
DTSTART:20170518T220000Z
DTEND:20170519T010000Z
X-MICROSOFT-CDO-ALLDAYEVENT:FALSE
SUMMARY:CMC Hope Event
DESCRIPTION:HELP US TO "SUPPORT ALL TYPES OF LOCAL CANCER SURVIVORS"\n\n \n\nCELEBRATING CAREGIVERS
X-ALT-DESC;FMTTYPE=text/html:<h1 style="text-align:center"><span style="font-family:arial\,helvetica\,sans-serif"><span style="font-size:18px">HELP US TO &quot\;SUPPORT ALL TYPES OF <u>LOCAL </u>CANCER SURVIVORS&quot\;</span></span></h1>\n\n<div style="text-align:center">&nbsp\;</div>\n\n<div style="text-align:center"><span style="font-family:arial\,helvetica\,sans-serif"><span style="font-size:18px">CELEBRATING CAREGIVERS</span></span></div>\n
LOCATION:Radius Conference Center\, 300 West Main Street\, Lexington\, SC
UID:e.1333.2540
SEQUENCE:3
DTSTAMP:20260424T141713Z
URL:https://business.greaterirmochamber.com/events/details/cmc-hope-event-2540
END:VEVENT

END:VCALENDAR
